BEGIN:VCALENDAR
VERSION:2.0
PRODID:-//FOT North America - ECPv6.15.20//NONSGML v1.0//EN
CALSCALE:GREGORIAN
METHOD:PUBLISH
X-WR-CALNAME:FOT North America
X-ORIGINAL-URL:https://fotnorthamerica.org
X-WR-CALDESC:Events for FOT North America
REFRESH-INTERVAL;VALUE=DURATION:PT1H
X-Robots-Tag:noindex
X-PUBLISHED-TTL:PT1H
BEGIN:VTIMEZONE
TZID:America/New_York
BEGIN:DAYLIGHT
TZOFFSETFROM:-0500
TZOFFSETTO:-0400
TZNAME:EDT
DTSTART:20250309T070000
END:DAYLIGHT
BEGIN:STANDARD
TZOFFSETFROM:-0400
TZOFFSETTO:-0500
TZNAME:EST
DTSTART:20251102T060000
END:STANDARD
BEGIN:DAYLIGHT
TZOFFSETFROM:-0500
TZOFFSETTO:-0400
TZNAME:EDT
DTSTART:20260308T070000
END:DAYLIGHT
BEGIN:STANDARD
TZOFFSETFROM:-0400
TZOFFSETTO:-0500
TZNAME:EST
DTSTART:20261101T060000
END:STANDARD
BEGIN:DAYLIGHT
TZOFFSETFROM:-0500
TZOFFSETTO:-0400
TZNAME:EDT
DTSTART:20270314T070000
END:DAYLIGHT
BEGIN:STANDARD
TZOFFSETFROM:-0400
TZOFFSETTO:-0500
TZNAME:EST
DTSTART:20271107T060000
END:STANDARD
BEGIN:DAYLIGHT
TZOFFSETFROM:-0500
TZOFFSETTO:-0400
TZNAME:EDT
DTSTART:20280312T070000
END:DAYLIGHT
BEGIN:STANDARD
TZOFFSETFROM:-0400
TZOFFSETTO:-0500
TZNAME:EST
DTSTART:20281105T060000
END:STANDARD
END:VTIMEZONE
BEGIN:VEVENT
DTSTART;TZID=America/New_York:20260508T080000
DTEND;TZID=America/New_York:20260508T170000
DTSTAMP:20260423T083143
CREATED:20251013T155908Z
LAST-MODIFIED:20260119T204305Z
UID:465-1778227200-1778259600@fotnorthamerica.org
SUMMARY:Pelvic Acetabular Course
DESCRIPTION:Friday\, May 8\, 2026\nFOT Pelvic Acetabular Course\nAttendee Level: PGY4 (applied into Trauma)\nFIVE Labs – Tampa\, FL\n\nFaculty:\nMalcolm DeBaun\, MD\nAnthony Christiano\, MD\nJoey Johnson\,MD\nJosh Langford\, MD\nMichael Maceroli\, MD\nHassan Mir\, MD\nRichard Yoon\, MD
URL:https://fotnorthamerica.org/event/pelvic-acetabular-course-2/
LOCATION:FIVE Labs – Tampa\, FL\, 4115 W Spruce St\,\, Tampa\, FL\, 33607\, United States
END:VEVENT
BEGIN:VEVENT
DTSTART;TZID=America/New_York:20260923T170000
DTEND;TZID=America/New_York:20260923T190000
DTSTAMP:20260423T083143
CREATED:20260417T233113Z
LAST-MODIFIED:20260417T233113Z
UID:510-1790182800-1790190000@fotnorthamerica.org
SUMMARY:FOT Business Meeting
DESCRIPTION:FOT Business Meeting
URL:https://fotnorthamerica.org/event/fot-business-meeting/
END:VEVENT
BEGIN:VEVENT
DTSTART;TZID=America/New_York:20261010T080000
DTEND;TZID=America/New_York:20261011T170000
DTSTAMP:20260423T083143
CREATED:20251013T160603Z
LAST-MODIFIED:20260119T204934Z
UID:468-1791619200-1791738000@fotnorthamerica.org
SUMMARY:FOT Upper + Lower Extremity Extremity Dissection Course
DESCRIPTION:Saturday + Sunday 10/10+10/11/26.\nFOT Upper + Lower Extremity Extremity Dissection Course\nAttendee Level: PGY2-4 Orthopedic Resident\nScholarship Opportunity\nIRCAD – Charlotte\, NC \nFaculty:\nKyle Dickson\, MD\nAbhishek Ganta\, MD\nLaurence Kempton\, MD\nRaveesh Richard\, MD
URL:https://fotnorthamerica.org/event/upper-extremity-dissection-course/
LOCATION:IRCAD – Charlotte\, NC\, 905 Pearl Park Wy\,\, NC\, Charlotte\, NC\, 28204\, United States
END:VEVENT
BEGIN:VEVENT
DTSTART;TZID=America/New_York:20261113T080000
DTEND;TZID=America/New_York:20261114T170000
DTSTAMP:20260423T083143
CREATED:20260119T205516Z
LAST-MODIFIED:20260303T012606Z
UID:494-1794556800-1794675600@fotnorthamerica.org
SUMMARY:FOT Upper and Lower Extremity Dissection Course
DESCRIPTION:Friday + Saturday 11/13+14/26\nFOT Upper and Lower Extremity Dissection Course\nAttendee Level: PGY2-4 Orthopedic Resident\nScholarship Opportunity\nScience Care Lab – Long Beach\, California \nFaculty:\nTBD
URL:https://fotnorthamerica.org/event/fot-upper-and-lower-extremity-dissection-course/
LOCATION:FIVE LABS San Diego\, CA\, 5288 Eastgate Mall\, San Diego\, 92121\, United States
END:VEVENT
BEGIN:VEVENT
DTSTART;TZID=America/New_York:20270128T080000
DTEND;TZID=America/New_York:20270129T170000
DTSTAMP:20260423T083143
CREATED:20260417T233316Z
LAST-MODIFIED:20260417T233316Z
UID:512-1801123200-1801242000@fotnorthamerica.org
SUMMARY:FOT Upper Extremity Dissection Course and 17th Annual Meeting
DESCRIPTION:Thursday and Friday January 28+29\, 2027\nFOT Upper Extremity Dissection Course and 17th Annual Meeting\nLas Vegas\, NV\nCourse Co-Chairs: Sam Nino\, MD and Krystin Hidden\, MD.\n\nThis 2 day course begins with an all day Upper Extremity Dissection Approach Course on Thursday 1/28/27 followed by a full day Orthopedic Trauma Symposium on Friday 1/29/27. Orthopedic Trauma based topics include\, Case presentations\, Trauma Research\, Debate sessions and more!
URL:https://fotnorthamerica.org/event/fot-upper-extremity-dissection-course-and-17th-annual-meeting/
LOCATION:Las Vegas\, NV
END:VEVENT
END:VCALENDAR